BEGIN:VCALENDAR
VERSION:2.0
PRODID:-//wp-events-plugin.com//7.2.3.1//EN
TZID:Europe/Rome
X-WR-TIMEZONE:Europe/Rome
BEGIN:VEVENT
UID:4854@rockon.it
DTSTART;TZID=Europe/Rome:20260914T000000
DTEND;TZID=Europe/Rome:20260914T000000
DTSTAMP:20260412T211339Z
URL:https://www.rockon.it/eventi/zeyne/
SUMMARY:Zeyne - Santeria Toscana 31 - 14 Set 26 00:00
DESCRIPTION:Zeyne - tra le voci più accattivanti del pop arabo contemporan
 eo - arriva per la prima volta in Italia. L’appuntamento\, prodotto da V
 ivo Concerti\, è previsto lunedì 14 settembre 2026 a Santeria Toscana 31
  di Milano e sarà l’occasione per ascoltare dal vivo i brani del suo al
 bum di debutto AWDA.\n\nL’arrivo di Zeyne in Italia segna un momento imp
 ortante nel suo percorso live\, portando per la prima volta un universo so
 noro\, in cui la voce resta centrale e guida un’esperienza emotiva diret
 ta e senza filtri. La data italiana rappresenta così non solo un debutto\
 , ma un’apertura verso nuove connessioni e nuovi contesti culturali.
ATTACH;FMTTYPE=image/jpeg:https://www.rockon.it/wp-content/uploads/2026/04
 /Zeyne.jpg
CATEGORIES:Altro
LOCATION:Santeria Toscana 31\, Viale Toscana\, 31\, Milano\, Milano\, 20136
 \, Lombardia\, Italia
GEO:45.445609;9.188343
X-APPLE-STRUCTURED-LOCATION;VALUE=URI;X-ADDRESS=Viale Toscana\, 31\, Milano
 \, Milano\, 20136\, Lombardia\, Italia;X-APPLE-RADIUS=100;X-TITLE=Santeria
  Toscana 31:geo:45.445609,9.188343
END:VEVENT
BEGIN:VTIMEZONE
TZID:Europe/Rome
X-LIC-LOCATION:Europe/Rome
BEGIN:DAYLIGHT
DTSTART:20260329T030000
TZOFFSETFROM:+0100
TZOFFSETTO:+0200
TZNAME:CEST
END:DAYLIGHT
END:VTIMEZONE
END:VCALENDAR