BEGIN:VCALENDAR
VERSION:2.0
PRODID:-//wp-events-plugin.com//7.2.3.1//EN
TZID:Europe/Rome
X-WR-TIMEZONE:Europe/Rome
BEGIN:VEVENT
UID:4846@rockon.it
DTSTART;TZID=Europe/Rome:20260413T000000
DTEND;TZID=Europe/Rome:20260413T000000
DTSTAMP:20260409T115522Z
URL:https://www.rockon.it/eventi/tame-impala-2/
SUMMARY:TAME IMPALA - Unipol Arena - Bologna - 13 Apr 26 00:00
DESCRIPTION:Tame Impala\, il visionario progetto musicale di Kevin Parker\
 , annuncia il suo ritorno sulle scene con il nuovo album Deadbeat\, in us
 cita il 17 ottobre 2025 su Columbia Records\, e con un imponente tour eu
 ropeo che lo porterà dal vivo anche in Italia per due appuntamenti esclus
 ivi.\n\n12 aprile 2026 Torino\, Inalpi Arena\n13 aprile 2026 Casalecchio
  di Reno (Bo)\, Unipol Arena\n\nBiglietti in vendita\nsu Ticketone &gt\; 
 https://tidd.ly/4gJRKA7\nVivaticket Torino &gt\; https://tidd.ly/428B8vZ\
 nVivaticket Bologna &gt\; https://tidd.ly/42MALaD\ne su &gt\; http://tic
 ketmasteritalia.46uy.net/tameimpala\n\n&nbsp\;\n\nCon Deadbeat\, il quint
 o disco in studio\, Kevin Parker continua a reinventarsi\, dando forma a u
 na raccolta di esplorazioni psichedeliche dal respiro clubbing\, tra minim
 alismo e groove trascinanti\, unite a una scrittura immediata e ipnotica.\
 n\n
ATTACH;FMTTYPE=image/jpeg:https://www.rockon.it/wp-content/uploads/2025/09
 /tameimpala.jpg
CATEGORIES:Elettronica
LOCATION:Unipol Arena - Bologna\, Zona Industriale Via del Lavoro\, Casalec
 chio di Reno\, Bologna\, Italia
GEO:44.4892758;11.254193399999963
X-APPLE-STRUCTURED-LOCATION;VALUE=URI;X-ADDRESS=Zona Industriale Via del La
 voro\, Casalecchio di Reno\, Bologna\, Italia;X-APPLE-RADIUS=100;X-TITLE=U
 nipol Arena - Bologna:geo:44.4892758,11.254193399999963
END:VEVENT
BEGIN:VTIMEZONE
TZID:Europe/Rome
X-LIC-LOCATION:Europe/Rome
BEGIN:DAYLIGHT
DTSTART:20260329T030000
TZOFFSETFROM:+0100
TZOFFSETTO:+0200
TZNAME:CEST
END:DAYLIGHT
END:VTIMEZONE
END:VCALENDAR